BEGIN:VCALENDAR
VERSION:2.0
PRODID:-//Nova Place - ECPv6.12.0.1//NONSGML v1.0//EN
CALSCALE:GREGORIAN
METHOD:PUBLISH
X-ORIGINAL-URL:https://novaplace.com
X-WR-CALDESC:Events for Nova Place
REFRESH-INTERVAL;VALUE=DURATION:PT1H
X-Robots-Tag:noindex
X-PUBLISHED-TTL:PT1H
BEGIN:VTIMEZONE
TZID:America/New_York
BEGIN:DAYLIGHT
TZOFFSETFROM:-0500
TZOFFSETTO:-0400
TZNAME:EDT
DTSTART:20200308T070000
END:DAYLIGHT
BEGIN:STANDARD
TZOFFSETFROM:-0400
TZOFFSETTO:-0500
TZNAME:EST
DTSTART:20201101T060000
END:STANDARD
END:VTIMEZONE
BEGIN:VEVENT
DTSTART;TZID=America/New_York:20200603T160000
DTEND;TZID=America/New_York:20200603T190000
DTSTAMP:20260424T100805
CREATED:20200130T190659Z
LAST-MODIFIED:20200130T191209Z
UID:1455-1591200000-1591210800@novaplace.com
SUMMARY:Next Act Fund Board Meeting
DESCRIPTION:
URL:https://novaplace.com/event/next-act-fund-board-meeting-2/
LOCATION:Nova Place Conference Center\, 100 South Commons\, Pittsburgh\, PA\, 15212\, United States
CATEGORIES:Corporate,Private
ATTACH;FMTTYPE=image/jpeg:https://novaplace.com/wp-content/uploads/2020/01/nova-place-events.jpg
END:VEVENT
BEGIN:VEVENT
DTSTART;TZID=America/New_York:20200606T140000
DTEND;TZID=America/New_York:20200606T223000
DTSTAMP:20260424T100805
CREATED:20200130T191337Z
LAST-MODIFIED:20211026T134001Z
UID:1457-1591452000-1591482600@novaplace.com
SUMMARY:Private Wedding
DESCRIPTION:
URL:https://novaplace.com/event/private-wedding-5/
LOCATION:Nova Place Concourse\, 100 South Commons\, Pittsburgh\, PA\, 15212\, United States
ATTACH;FMTTYPE=image/jpeg:https://novaplace.com/wp-content/uploads/2020/01/nova-place-events.jpg
END:VEVENT
BEGIN:VEVENT
DTSTART;TZID=America/New_York:20200613T080000
DTEND;TZID=America/New_York:20200613T160000
DTSTAMP:20260424T100805
CREATED:20200130T192003Z
LAST-MODIFIED:20220616T192056Z
UID:1459-1592035200-1592064000@novaplace.com
SUMMARY:Pittsburgh TechFest
DESCRIPTION:Pittsburgh TechFest is a one-day event on Saturday\, June 13th\, 2020 where software development professionals from Southwestern Pennsylvania and surrounding areas will get together to talk and learn about perfecting our craft. Topics will include coding\, tools\, agile\, project management\, etc. All development disciplines (devs\, testers\, PMs\, DBAs\, BAs etc.) and all development stacks (Ruby\, Java\, .Net\, JavaScript\, Python\, SQL Server\, Oracle\, etc.) are welcome! \nTickets & Information
URL:https://novaplace.com/event/pittsburgh-techfest/
LOCATION:Nova Place Concourse\, 100 South Commons\, Pittsburgh\, PA\, 15212\, United States
CATEGORIES:Activities
ATTACH;FMTTYPE=image/jpeg:https://novaplace.com/wp-content/uploads/2020/01/PTC.jpg
END:VEVENT
BEGIN:VEVENT
DTSTART;TZID=America/New_York:20200620T170000
DTEND;TZID=America/New_York:20200620T200000
DTSTAMP:20260424T100805
CREATED:20200130T192152Z
LAST-MODIFIED:20211026T133954Z
UID:1463-1592672400-1592683200@novaplace.com
SUMMARY:Private Wedding
DESCRIPTION:
URL:https://novaplace.com/event/private-wedding-6/
LOCATION:Nova Place Concourse\, 100 South Commons\, Pittsburgh\, PA\, 15212\, United States
ATTACH;FMTTYPE=image/jpeg:https://novaplace.com/wp-content/uploads/2020/01/nova-place-events.jpg
END:VEVENT
END:VCALENDAR